BEGIN:VCALENDAR
VERSION:2.0
PRODID:-//Squarespace Inc/Squarespace 6//v6//EN
BEGIN:VEVENT
UID:5b2459ec88251ba762b6eaf2@squarespace.com
DTSTAMP:20180616T002942Z
DTSTART:20180628T213000Z
DTEND:20180629T003000Z
SUMMARY:Il Caretto Pizza
END:VEVENT
END:VCALENDAR
