BEGIN:VCALENDAR
VERSION:2.0
PRODID:-//Squarespace Inc/Squarespace 6//v6//EN
BEGIN:VEVENT
UID:5b245991562fa7107c779566@squarespace.com
DTSTAMP:20180616T002823Z
DTSTART:20180621T213000Z
DTEND:20180622T003000Z
SUMMARY:Il Caretto Pizza
END:VEVENT
END:VCALENDAR
