BEGIN:VCALENDAR
VERSION:2.0
PRODID:-//Squarespace Inc/Squarespace 6//v6//EN
BEGIN:VEVENT
UID:5b2459d81ae6cfe7a8a9b659@squarespace.com
DTSTAMP:20180616T002924Z
DTSTART:20180625T203000Z
DTEND:20180625T223000Z
SUMMARY:Shoza Gyoza
END:VEVENT
END:VCALENDAR
