BEGIN:VCALENDAR
VERSION:2.0
PRODID:-//Squarespace Inc/Squarespace 6//v6//EN
BEGIN:VEVENT
UID:5b2459b32b6a288644055659@squarespace.com
DTSTAMP:20180616T002848Z
DTSTART:20180618T203000Z
DTEND:20180618T223000Z
SUMMARY:Shoza Gyoza
END:VEVENT
END:VCALENDAR
